Package: RTCGA.CNV Version: 1.39.0 Command: /home/biocbuild/bbs-3.23-bioc/R/bin/R CMD build --keep-empty-dirs --no-resave-data RTCGA.CNV StartedAt: 2025-10-30 11:34:45 -0400 (Thu, 30 Oct 2025) EndedAt: 2025-10-30 11:35:07 -0400 (Thu, 30 Oct 2025) EllapsedTime: 21.6 seconds RetCode: 0 Status: OK PackageFile: RTCGA.CNV_1.39.0.tar.gz PackageFileSize: 27.37 MiB