Package: RNAseqData.HNRNPC.bam.chr14 Version: 0.49.0 Command: /home/biocbuild/bbs-3.23-bioc/R/bin/R CMD INSTALL RNAseqData.HNRNPC.bam.chr14 StartedAt: 2025-10-30 10:55:55 -0400 (Thu, 30 Oct 2025) EndedAt: 2025-10-30 10:56:02 -0400 (Thu, 30 Oct 2025) EllapsedTime: 7.7 seconds RetCode: 0 Status: OK