Package: RNAmodR.Data Version: 1.25.0 Command: /home/biocbuild/bbs-3.23-bioc/R/bin/R CMD check --install=check:RNAmodR.Data.install-out.txt --library=/home/biocbuild/bbs-3.23-bioc/R/site-library --timings RNAmodR.Data_1.25.0.tar.gz StartedAt: 2025-10-30 12:38:48 -0400 (Thu, 30 Oct 2025) EndedAt: 2025-10-30 12:44:24 -0400 (Thu, 30 Oct 2025) EllapsedTime: 336.3 seconds RetCode: 0 Status: OK CheckDir: RNAmodR.Data.Rcheck Warnings: 0