Package: RNAmodR.Data Version: 1.25.0 Command: /home/biocbuild/bbs-3.23-bioc/R/bin/R CMD build --keep-empty-dirs --no-resave-data RNAmodR.Data StartedAt: 2025-10-30 11:33:57 -0400 (Thu, 30 Oct 2025) EndedAt: 2025-10-30 11:34:54 -0400 (Thu, 30 Oct 2025) EllapsedTime: 56.2 seconds RetCode: 0 Status: OK PackageFile: RNAmodR.Data_1.25.0.tar.gz PackageFileSize: 304.9 KiB