Package: RMassBankData Version: 1.49.0 Command: /home/biocbuild/bbs-3.23-bioc/R/bin/R CMD build --keep-empty-dirs --no-resave-data RMassBankData StartedAt: 2025-10-30 11:33:44 -0400 (Thu, 30 Oct 2025) EndedAt: 2025-10-30 11:33:57 -0400 (Thu, 30 Oct 2025) EllapsedTime: 13.0 seconds RetCode: 0 Status: OK PackageFile: RMassBankData_1.49.0.tar.gz PackageFileSize: 51.54 MiB