Package: QDNAseq.mm10 Version: 1.41.0 Command: /home/biocbuild/bbs-3.23-bioc/R/bin/R CMD INSTALL QDNAseq.mm10 StartedAt: 2025-10-30 11:02:22 -0400 (Thu, 30 Oct 2025) EndedAt: 2025-10-30 11:02:34 -0400 (Thu, 30 Oct 2025) EllapsedTime: 12.7 seconds RetCode: 0 Status: OK