Package: QDNAseq.mm10 Version: 1.41.0 Command: /home/biocbuild/bbs-3.23-bioc/R/bin/R CMD check --install=check:QDNAseq.mm10.install-out.txt --library=/home/biocbuild/bbs-3.23-bioc/R/site-library --timings QDNAseq.mm10_1.41.0.tar.gz StartedAt: 2025-10-30 12:37:11 -0400 (Thu, 30 Oct 2025) EndedAt: 2025-10-30 12:39:28 -0400 (Thu, 30 Oct 2025) EllapsedTime: 136.1 seconds RetCode: 0 Status: OK CheckDir: QDNAseq.mm10.Rcheck Warnings: 0