Package: ProteinGymR Version: 1.5.0 Command: /home/biocbuild/bbs-3.23-bioc/R/bin/R CMD build --keep-empty-dirs --no-resave-data ProteinGymR StartedAt: 2025-11-20 11:38:05 -0500 (Thu, 20 Nov 2025) EndedAt: 2025-11-20 11:41:52 -0500 (Thu, 20 Nov 2025) EllapsedTime: 226.5 seconds RetCode: 0 Status: OK PackageFile: ProteinGymR_1.5.0.tar.gz PackageFileSize: 2.029 MiB