Package: PepsNMRData Version: 1.27.0 Command: /home/biocbuild/bbs-3.22-bioc/R/bin/R CMD INSTALL PepsNMRData StartedAt: 2025-10-07 10:55:43 -0400 (Tue, 07 Oct 2025) EndedAt: 2025-10-07 10:55:53 -0400 (Tue, 07 Oct 2025) EllapsedTime: 9.9 seconds RetCode: 0 Status: OK