Package: PepsNMRData Version: 1.27.0 Command: /home/biocbuild/bbs-3.22-bioc/R/bin/R CMD build --keep-empty-dirs --no-resave-data PepsNMRData StartedAt: 2025-10-07 11:34:02 -0400 (Tue, 07 Oct 2025) EndedAt: 2025-10-07 11:34:16 -0400 (Tue, 07 Oct 2025) EllapsedTime: 13.4 seconds RetCode: 0 Status: OK PackageFile: PepsNMRData_1.27.0.tar.gz PackageFileSize: 31.89 MiB