Package: PepsNMRData Version: 1.29.0 Command: /home/biocbuild/bbs-3.23-bioc/R/bin/R CMD check --install=check:PepsNMRData.install-out.txt --library=/home/biocbuild/bbs-3.23-bioc/R/site-library --timings PepsNMRData_1.29.0.tar.gz StartedAt: 2025-10-30 12:35:18 -0400 (Thu, 30 Oct 2025) EndedAt: 2025-10-30 12:35:40 -0400 (Thu, 30 Oct 2025) EllapsedTime: 22.3 seconds RetCode: 0 Status: WARNINGS CheckDir: PepsNMRData.Rcheck Warnings: 1