Package: PepsNMRData Version: 1.29.0 Command: /home/biocbuild/bbs-3.23-bioc/R/bin/R CMD build --keep-empty-dirs --no-resave-data PepsNMRData StartedAt: 2025-10-30 11:31:25 -0400 (Thu, 30 Oct 2025) EndedAt: 2025-10-30 11:31:39 -0400 (Thu, 30 Oct 2025) EllapsedTime: 13.3 seconds RetCode: 0 Status: OK PackageFile: PepsNMRData_1.29.0.tar.gz PackageFileSize: 31.89 MiB