Package: PWMEnrich.Mmusculus.background Version: 4.45.0 Command: /home/biocbuild/bbs-3.23-bioc/R/bin/R CMD INSTALL PWMEnrich.Mmusculus.background StartedAt: 2025-11-27 10:56:38 -0500 (Thu, 27 Nov 2025) EndedAt: 2025-11-27 10:56:45 -0500 (Thu, 27 Nov 2025) EllapsedTime: 7.0 seconds RetCode: 0 Status: OK