Package: PWMEnrich.Mmusculus.background Version: 4.45.0 Command: /home/biocbuild/bbs-3.23-bioc/R/bin/R CMD check --install=check:PWMEnrich.Mmusculus.background.install-out.txt --library=/home/biocbuild/bbs-3.23-bioc/R/site-library --timings PWMEnrich.Mmusculus.background_4.45.0.tar.gz StartedAt: 2025-11-27 12:52:30 -0500 (Thu, 27 Nov 2025) EndedAt: 2025-11-27 12:53:07 -0500 (Thu, 27 Nov 2025) EllapsedTime: 36.9 seconds RetCode: 0 Status: OK CheckDir: PWMEnrich.Mmusculus.background.Rcheck Warnings: 0