Package: PWMEnrich.Mmusculus.background Version: 4.45.0 Command: /home/biocbuild/bbs-3.23-bioc/R/bin/R CMD build --keep-empty-dirs --no-resave-data PWMEnrich.Mmusculus.background StartedAt: 2025-11-27 11:36:37 -0500 (Thu, 27 Nov 2025) EndedAt: 2025-11-27 11:36:39 -0500 (Thu, 27 Nov 2025) EllapsedTime: 2.0 seconds RetCode: 0 Status: OK PackageFile: PWMEnrich.Mmusculus.background_4.45.0.tar.gz PackageFileSize: 10.34 MiB