Package: PWMEnrich.Hsapiens.background Version: 4.45.0 Command: /home/biocbuild/bbs-3.23-bioc/R/bin/R CMD INSTALL PWMEnrich.Hsapiens.background StartedAt: 2025-10-30 10:57:43 -0400 (Thu, 30 Oct 2025) EndedAt: 2025-10-30 10:57:49 -0400 (Thu, 30 Oct 2025) EllapsedTime: 6.4 seconds RetCode: 0 Status: OK