Package: PWMEnrich.Hsapiens.background Version: 4.45.0 Command: /home/biocbuild/bbs-3.23-bioc/R/bin/R CMD check --install=check:PWMEnrich.Hsapiens.background.install-out.txt --library=/home/biocbuild/bbs-3.23-bioc/R/site-library --timings PWMEnrich.Hsapiens.background_4.45.0.tar.gz StartedAt: 2025-10-30 12:36:51 -0400 (Thu, 30 Oct 2025) EndedAt: 2025-10-30 12:37:33 -0400 (Thu, 30 Oct 2025) EllapsedTime: 41.9 seconds RetCode: 0 Status: OK CheckDir: PWMEnrich.Hsapiens.background.Rcheck Warnings: 0