Package: PREDAsampledata Version: 0.51.0 Command: /home/biocbuild/bbs-3.23-bioc/R/bin/R CMD build --keep-empty-dirs --no-resave-data PREDAsampledata StartedAt: 2025-11-20 11:37:10 -0500 (Thu, 20 Nov 2025) EndedAt: 2025-11-20 11:37:31 -0500 (Thu, 20 Nov 2025) EllapsedTime: 20.9 seconds RetCode: 0 Status: OK PackageFile: PREDAsampledata_0.51.0.tar.gz PackageFileSize: 66.79 MiB