Package: OnassisJavaLibs Version: 1.33.0 Command: /home/biocbuild/bbs-3.23-bioc/R/bin/R CMD check --install=check:OnassisJavaLibs.install-out.txt --library=/home/biocbuild/bbs-3.23-bioc/R/site-library --timings OnassisJavaLibs_1.33.0.tar.gz StartedAt: 2025-11-13 12:51:42 -0500 (Thu, 13 Nov 2025) EndedAt: 2025-11-13 12:52:04 -0500 (Thu, 13 Nov 2025) EllapsedTime: 22.6 seconds RetCode: 0 Status: OK CheckDir: OnassisJavaLibs.Rcheck Warnings: 0