Package: ObMiTi Version: 1.19.0 Command: /home/biocbuild/bbs-3.23-bioc/R/bin/R CMD INSTALL ObMiTi StartedAt: 2025-10-30 10:58:33 -0400 (Thu, 30 Oct 2025) EndedAt: 2025-10-30 10:58:59 -0400 (Thu, 30 Oct 2025) EllapsedTime: 26.0 seconds RetCode: 0 Status: OK