Package: ObMiTi Version: 1.19.0 Command: /home/biocbuild/bbs-3.23-bioc/R/bin/R CMD build --keep-empty-dirs --no-resave-data ObMiTi StartedAt: 2025-10-30 11:30:09 -0400 (Thu, 30 Oct 2025) EndedAt: 2025-10-30 11:30:50 -0400 (Thu, 30 Oct 2025) EllapsedTime: 40.4 seconds RetCode: 0 Status: OK PackageFile: ObMiTi_1.19.0.tar.gz PackageFileSize: 46.72 KiB