Package: OMICsPCAdata Version: 1.29.0 Command: /home/biocbuild/bbs-3.23-bioc/R/bin/R CMD INSTALL OMICsPCAdata StartedAt: 2025-11-27 10:59:27 -0500 (Thu, 27 Nov 2025) EndedAt: 2025-11-27 11:00:09 -0500 (Thu, 27 Nov 2025) EllapsedTime: 41.6 seconds RetCode: 0 Status: OK