Package: OMICsPCAdata Version: 1.29.0 Command: /home/biocbuild/bbs-3.23-bioc/R/bin/R CMD check --install=check:OMICsPCAdata.install-out.txt --library=/home/biocbuild/bbs-3.23-bioc/R/site-library --timings OMICsPCAdata_1.29.0.tar.gz StartedAt: 2025-11-27 12:48:38 -0500 (Thu, 27 Nov 2025) EndedAt: 2025-11-27 12:50:30 -0500 (Thu, 27 Nov 2025) EllapsedTime: 111.8 seconds RetCode: 0 Status: WARNINGS CheckDir: OMICsPCAdata.Rcheck Warnings: 1