############################################################################## ############################################################################## ### ### Running command: ### ### /home/biocbuild/bbs-3.23-bioc/R/bin/R CMD INSTALL Neve2006 ### ############################################################################## ############################################################################## * installing to library ‘/home/biocbuild/bbs-3.23-bioc/R/site-library’ ERROR: dependency ‘hgu133a.db’ is not available for package ‘Neve2006’ Perhaps try a variation of: install.packages('hgu133a.db') * removing ‘/home/biocbuild/bbs-3.23-bioc/R/site-library/Neve2006’