############################################################################## ############################################################################## ### ### Running command: ### ### /home/biocbuild/bbs-3.23-bioc/R/bin/R CMD build --keep-empty-dirs --no-resave-data Neve2006 ### ############################################################################## ############################################################################## * checking for file ‘Neve2006/DESCRIPTION’ ... OK * preparing ‘Neve2006’: * checking DESCRIPTION meta-information ... OK * installing the package (it is needed to build vignettes) ----------------------------------- ERROR: dependency ‘hgu133a.db’ is not available for package ‘Neve2006’ Perhaps try a variation of: install.packages('hgu133a.db') * removing ‘/tmp/RtmponpVt8/Rinst33ca474fc08f2/Neve2006’ ----------------------------------- ERROR: package installation failed