Package: NestLink Version: 1.25.0 Command: /home/biocbuild/bbs-3.22-bioc/R/bin/R CMD check --install=check:NestLink.install-out.txt --library=/home/biocbuild/bbs-3.22-bioc/R/site-library --timings NestLink_1.25.0.tar.gz StartedAt: 2025-10-02 12:48:34 -0400 (Thu, 02 Oct 2025) EndedAt: 2025-10-02 13:00:10 -0400 (Thu, 02 Oct 2025) EllapsedTime: 696.5 seconds RetCode: 0 Status: OK CheckDir: NestLink.Rcheck Warnings: 0