Package: NanoporeRNASeq Version: 1.21.0 Command: /home/biocbuild/bbs-3.23-bioc/R/bin/R CMD check --install=check:NanoporeRNASeq.install-out.txt --library=/home/biocbuild/bbs-3.23-bioc/R/site-library --timings NanoporeRNASeq_1.21.0.tar.gz StartedAt: 2025-11-20 12:55:08 -0500 (Thu, 20 Nov 2025) EndedAt: 2025-11-20 12:57:51 -0500 (Thu, 20 Nov 2025) EllapsedTime: 163.1 seconds RetCode: 0 Status: OK CheckDir: NanoporeRNASeq.Rcheck Warnings: 0