Package: NCIgraphData Version: 1.47.0 Command: /home/biocbuild/bbs-3.23-bioc/R/bin/R CMD INSTALL NCIgraphData StartedAt: 2025-10-30 10:56:05 -0400 (Thu, 30 Oct 2025) EndedAt: 2025-10-30 10:56:12 -0400 (Thu, 30 Oct 2025) EllapsedTime: 6.7 seconds RetCode: 0 Status: OK