Package: NCIgraphData Version: 1.47.0 Command: /home/biocbuild/bbs-3.23-bioc/R/bin/R CMD check --install=check:NCIgraphData.install-out.txt --library=/home/biocbuild/bbs-3.23-bioc/R/site-library --timings NCIgraphData_1.47.0.tar.gz StartedAt: 2025-10-30 12:32:10 -0400 (Thu, 30 Oct 2025) EndedAt: 2025-10-30 12:33:16 -0400 (Thu, 30 Oct 2025) EllapsedTime: 65.9 seconds RetCode: 0 Status: WARNINGS CheckDir: NCIgraphData.Rcheck Warnings: 2