Package: NCIgraphData Version: 1.47.0 Command: /home/biocbuild/bbs-3.23-bioc/R/bin/R CMD build --keep-empty-dirs --no-resave-data NCIgraphData StartedAt: 2025-10-30 11:29:37 -0400 (Thu, 30 Oct 2025) EndedAt: 2025-10-30 11:29:38 -0400 (Thu, 30 Oct 2025) EllapsedTime: 1.0 seconds RetCode: 0 Status: OK PackageFile: NCIgraphData_1.47.0.tar.gz PackageFileSize: 5.253 MiB