Package: MouseThymusAgeing Version: 1.19.0 Command: /home/biocbuild/bbs-3.23-bioc/R/bin/R CMD INSTALL MouseThymusAgeing StartedAt: 2025-10-30 10:59:57 -0400 (Thu, 30 Oct 2025) EndedAt: 2025-10-30 11:00:25 -0400 (Thu, 30 Oct 2025) EllapsedTime: 27.3 seconds RetCode: 0 Status: OK