Package: MouseThymusAgeing Version: 1.19.0 Command: /home/biocbuild/bbs-3.23-bioc/R/bin/R CMD check --install=check:MouseThymusAgeing.install-out.txt --library=/home/biocbuild/bbs-3.23-bioc/R/site-library --timings MouseThymusAgeing_1.19.0.tar.gz StartedAt: 2025-10-30 12:29:54 -0400 (Thu, 30 Oct 2025) EndedAt: 2025-10-30 12:33:37 -0400 (Thu, 30 Oct 2025) EllapsedTime: 223.2 seconds RetCode: 0 Status: OK CheckDir: MouseThymusAgeing.Rcheck Warnings: 0