Package: MouseGastrulationData Version: 1.25.0 Command: /home/biocbuild/bbs-3.23-bioc/R/bin/R CMD INSTALL MouseGastrulationData StartedAt: 2025-10-30 11:02:51 -0400 (Thu, 30 Oct 2025) EndedAt: 2025-10-30 11:03:21 -0400 (Thu, 30 Oct 2025) EllapsedTime: 30.1 seconds RetCode: 0 Status: OK