Package: MouseGastrulationData Version: 1.25.0 Command: /home/biocbuild/bbs-3.23-bioc/R/bin/R CMD check --install=check:MouseGastrulationData.install-out.txt --library=/home/biocbuild/bbs-3.23-bioc/R/site-library --timings MouseGastrulationData_1.25.0.tar.gz StartedAt: 2025-10-30 12:29:50 -0400 (Thu, 30 Oct 2025) EndedAt: 2025-10-30 12:36:22 -0400 (Thu, 30 Oct 2025) EllapsedTime: 392.6 seconds RetCode: 0 Status: OK CheckDir: MouseGastrulationData.Rcheck Warnings: 0