Package: MouseGastrulationData Version: 1.25.0 Command: /home/biocbuild/bbs-3.23-bioc/R/bin/R CMD build --keep-empty-dirs --no-resave-data MouseGastrulationData StartedAt: 2025-10-30 11:28:02 -0400 (Thu, 30 Oct 2025) EndedAt: 2025-10-30 11:29:19 -0400 (Thu, 30 Oct 2025) EllapsedTime: 76.3 seconds RetCode: 0 Status: OK PackageFile: MouseGastrulationData_1.25.0.tar.gz PackageFileSize: 507.8 KiB