Package: MethylAidData Version: 1.43.0 Command: /home/biocbuild/bbs-3.23-bioc/R/bin/R CMD check --install=check:MethylAidData.install-out.txt --library=/home/biocbuild/bbs-3.23-bioc/R/site-library --timings MethylAidData_1.43.0.tar.gz StartedAt: 2025-11-04 12:34:24 -0500 (Tue, 04 Nov 2025) EndedAt: 2025-11-04 12:37:44 -0500 (Tue, 04 Nov 2025) EllapsedTime: 200.5 seconds RetCode: 0 Status: OK CheckDir: MethylAidData.Rcheck Warnings: 0