Package: MethylAidData Version: 1.43.0 Command: /home/biocbuild/bbs-3.23-bioc/R/bin/R CMD build --keep-empty-dirs --no-resave-data MethylAidData StartedAt: 2025-10-30 11:26:45 -0400 (Thu, 30 Oct 2025) EndedAt: 2025-10-30 11:27:22 -0400 (Thu, 30 Oct 2025) EllapsedTime: 36.5 seconds RetCode: 0 Status: OK PackageFile: MethylAidData_1.43.0.tar.gz PackageFileSize: 20.97 MiB