Package: MetaScope Version: 1.11.0 Command: /home/biocbuild/bbs-3.23-bioc/R/bin/R CMD check --install=check:MetaScope.install-out.txt --library=/home/biocbuild/bbs-3.23-bioc/R/site-library --timings MetaScope_1.11.0.tar.gz StartedAt: 2025-10-30 12:26:15 -0400 (Thu, 30 Oct 2025) EndedAt: 2025-10-30 12:36:18 -0400 (Thu, 30 Oct 2025) EllapsedTime: 602.3 seconds RetCode: 0 Status: OK CheckDir: MetaScope.Rcheck Warnings: 0