Package: MetaScope Version: 1.11.0 Command: /home/biocbuild/bbs-3.23-bioc/R/bin/R CMD build --keep-empty-dirs --no-resave-data MetaScope StartedAt: 2025-10-30 11:26:11 -0400 (Thu, 30 Oct 2025) EndedAt: 2025-10-30 11:34:52 -0400 (Thu, 30 Oct 2025) EllapsedTime: 521.1 seconds RetCode: 0 Status: OK PackageFile: MetaScope_1.11.0.tar.gz PackageFileSize: 3.689 MiB