Package: MOFAdata Version: 1.27.0 Command: /home/biocbuild/bbs-3.23-bioc/R/bin/R CMD INSTALL MOFAdata StartedAt: 2025-10-30 10:55:18 -0400 (Thu, 30 Oct 2025) EndedAt: 2025-10-30 10:55:30 -0400 (Thu, 30 Oct 2025) EllapsedTime: 11.3 seconds RetCode: 0 Status: OK