Package: MOFAdata Version: 1.27.0 Command: /home/biocbuild/bbs-3.23-bioc/R/bin/R CMD check --install=check:MOFAdata.install-out.txt --library=/home/biocbuild/bbs-3.23-bioc/R/site-library --timings MOFAdata_1.27.0.tar.gz StartedAt: 2025-10-30 12:28:55 -0400 (Thu, 30 Oct 2025) EndedAt: 2025-10-30 12:30:07 -0400 (Thu, 30 Oct 2025) EllapsedTime: 72.2 seconds RetCode: 0 Status: OK CheckDir: MOFAdata.Rcheck Warnings: 0