Package: MOFAdata Version: 1.27.0 Command: /home/biocbuild/bbs-3.23-bioc/R/bin/R CMD build --keep-empty-dirs --no-resave-data MOFAdata StartedAt: 2025-10-30 11:27:56 -0400 (Thu, 30 Oct 2025) EndedAt: 2025-10-30 11:28:35 -0400 (Thu, 30 Oct 2025) EllapsedTime: 39.1 seconds RetCode: 0 Status: OK PackageFile: MOFAdata_1.27.0.tar.gz PackageFileSize: 44.23 MiB