Package: MEDIPSData Version: 1.47.0 Command: /home/biocbuild/bbs-3.23-bioc/R/bin/R CMD check --install=check:MEDIPSData.install-out.txt --library=/home/biocbuild/bbs-3.23-bioc/R/site-library --timings MEDIPSData_1.47.0.tar.gz StartedAt: 2025-11-04 12:33:33 -0500 (Tue, 04 Nov 2025) EndedAt: 2025-11-04 12:34:14 -0500 (Tue, 04 Nov 2025) EllapsedTime: 41.7 seconds RetCode: 0 Status: WARNINGS CheckDir: MEDIPSData.Rcheck Warnings: 1