Package: MACSdata Version: 1.19.0 Command: /home/biocbuild/bbs-3.23-bioc/R/bin/R CMD INSTALL MACSdata StartedAt: 2025-11-04 10:55:29 -0500 (Tue, 04 Nov 2025) EndedAt: 2025-11-04 10:55:31 -0500 (Tue, 04 Nov 2025) EllapsedTime: 2.2 seconds RetCode: 0 Status: OK