Package: LungCancerLines Version: 0.49.0 Command: /home/biocbuild/bbs-3.23-bioc/R/bin/R CMD INSTALL LungCancerLines StartedAt: 2025-10-30 11:00:42 -0400 (Thu, 30 Oct 2025) EndedAt: 2025-10-30 11:00:52 -0400 (Thu, 30 Oct 2025) EllapsedTime: 10.2 seconds RetCode: 0 Status: OK