Package: LungCancerLines Version: 0.49.0 Command: /home/biocbuild/bbs-3.23-bioc/R/bin/R CMD check --install=check:LungCancerLines.install-out.txt --library=/home/biocbuild/bbs-3.23-bioc/R/site-library --timings LungCancerLines_0.49.0.tar.gz StartedAt: 2025-10-30 12:24:18 -0400 (Thu, 30 Oct 2025) EndedAt: 2025-10-30 12:25:26 -0400 (Thu, 30 Oct 2025) EllapsedTime: 68.5 seconds RetCode: 0 Status: OK CheckDir: LungCancerLines.Rcheck Warnings: 0