Package: LungCancerLines Version: 0.49.0 Command: /home/biocbuild/bbs-3.23-bioc/R/bin/R CMD build --keep-empty-dirs --no-resave-data LungCancerLines StartedAt: 2025-10-30 11:24:19 -0400 (Thu, 30 Oct 2025) EndedAt: 2025-10-30 11:24:20 -0400 (Thu, 30 Oct 2025) EllapsedTime: 1.0 seconds RetCode: 0 Status: OK PackageFile: LungCancerLines_0.49.0.tar.gz PackageFileSize: 1.608 MiB