Package: LiebermanAidenHiC2009 Version: 0.49.0 Command: /home/biocbuild/bbs-3.23-bioc/R/bin/R CMD INSTALL LiebermanAidenHiC2009 StartedAt: 2025-10-30 10:56:48 -0400 (Thu, 30 Oct 2025) EndedAt: 2025-10-30 10:56:54 -0400 (Thu, 30 Oct 2025) EllapsedTime: 5.5 seconds RetCode: 0 Status: OK