Package: LiebermanAidenHiC2009 Version: 0.49.0 Command: /home/biocbuild/bbs-3.23-bioc/R/bin/R CMD check --install=check:LiebermanAidenHiC2009.install-out.txt --library=/home/biocbuild/bbs-3.23-bioc/R/site-library --timings LiebermanAidenHiC2009_0.49.0.tar.gz StartedAt: 2025-11-04 12:30:41 -0500 (Tue, 04 Nov 2025) EndedAt: 2025-11-04 12:32:29 -0500 (Tue, 04 Nov 2025) EllapsedTime: 107.6 seconds RetCode: 0 Status: WARNINGS CheckDir: LiebermanAidenHiC2009.Rcheck Warnings: 2