Package: KEGGandMetacoreDzPathwaysGEO Version: 1.31.0 Command: /home/biocbuild/bbs-3.23-bioc/R/bin/R CMD build --keep-empty-dirs --no-resave-data KEGGandMetacoreDzPathwaysGEO StartedAt: 2025-10-30 11:23:17 -0400 (Thu, 30 Oct 2025) EndedAt: 2025-10-30 11:23:28 -0400 (Thu, 30 Oct 2025) EllapsedTime: 11.3 seconds RetCode: 0 Status: OK PackageFile: KEGGandMetacoreDzPathwaysGEO_1.31.0.tar.gz PackageFileSize: 98.67 MiB